BEGIN:VCALENDAR
VERSION:2.0
PRODID:-//Sant Josep és música - ECPv6.15.13//NONSGML v1.0//EN
CALSCALE:GREGORIAN
METHOD:PUBLISH
X-WR-CALNAME:Sant Josep és música
X-ORIGINAL-URL:https://musica.santjosep.org/es/
X-WR-CALDESC:Eventos para Sant Josep és música
REFRESH-INTERVAL;VALUE=DURATION:PT1H
X-Robots-Tag:noindex
X-PUBLISHED-TTL:PT1H
BEGIN:VTIMEZONE
TZID:Europe/Madrid
BEGIN:DAYLIGHT
TZOFFSETFROM:+0100
TZOFFSETTO:+0200
TZNAME:CEST
DTSTART:20230326T010000
END:DAYLIGHT
BEGIN:STANDARD
TZOFFSETFROM:+0200
TZOFFSETTO:+0100
TZNAME:CET
DTSTART:20231029T010000
END:STANDARD
BEGIN:DAYLIGHT
TZOFFSETFROM:+0100
TZOFFSETTO:+0200
TZNAME:CEST
DTSTART:20240331T010000
END:DAYLIGHT
BEGIN:STANDARD
TZOFFSETFROM:+0200
TZOFFSETTO:+0100
TZNAME:CET
DTSTART:20241027T010000
END:STANDARD
BEGIN:DAYLIGHT
TZOFFSETFROM:+0100
TZOFFSETTO:+0200
TZNAME:CEST
DTSTART:20250330T010000
END:DAYLIGHT
BEGIN:STANDARD
TZOFFSETFROM:+0200
TZOFFSETTO:+0100
TZNAME:CET
DTSTART:20251026T010000
END:STANDARD
END:VTIMEZONE
BEGIN:VEVENT
DTSTART;TZID=Europe/Madrid:20240726T210000
DTEND;TZID=Europe/Madrid:20240726T230000
DTSTAMP:20260425T221805
CREATED:20240710T084407Z
LAST-MODIFIED:20240710T084407Z
UID:10022126-1722027600-1722034800@musica.santjosep.org
SUMMARY:El dúo acústico de Rick y Carly\, en el escenario de Mola La Ola\, en Cala de Bou
DESCRIPTION:El bar restaurante Mola La Ola\, en Cala de Bou\, trae a su escenario a la cantante Carly Marie Sorensen y el guitarrista Rick Rockdríguez\, con un espectáculo de versiones en acústico. Ambos son miembros del grupo Carly & The Cats y ofrecen una selección ecléctica\, con mucho groove\, a base de Stevie Wonder\, Al Green\, UB40\, Sixpence None The Richer\, Boney M…
URL:https://musica.santjosep.org/es/concert/el-duo-acustico-de-rick-y-carly-en-el-escenario-de-mola-la-ola-en-cala-de-bou-3/2024-07-26/
LOCATION:Mola La Ola\, Carrer des Caló\, 71. Cala de Bou
CATEGORIES:Pop,Rock,Soul
ATTACH;FMTTYPE=image/jpeg:https://musica.santjosep.org/wp-content/uploads/2024/07/carly-and-rick-rec-1.jpg
GEO:38.9705357081;1.2836602652282
X-APPLE-STRUCTURED-LOCATION;VALUE=URI;X-ADDRESS=Mola La Ola Carrer des Caló 71. Cala de Bou;X-APPLE-RADIUS=500;X-TITLE=Carrer des Caló\, 71. Cala de Bou:geo:1.2836602652282,38.9705357081
END:VEVENT
BEGIN:VEVENT
DTSTART;TZID=Europe/Madrid:20240718T210000
DTEND;TZID=Europe/Madrid:20240718T230000
DTSTAMP:20260425T221805
CREATED:20240710T083813Z
LAST-MODIFIED:20240802T102859Z
UID:10022123-1721336400-1721343600@musica.santjosep.org
SUMMARY:El dúo acústico de Rick y Carly\, en el escenario de Mola La Ola\, en Cala de Bou
DESCRIPTION:El bar restaurante Mola La Ola\, en Cala de Bou\, trae a su escenario a la cantante Carly Marie Sorensen y el guitarrista Rick Rockdríguez\, con un espectáculo de versiones en acústico. Ambos son miembros del grupo Carly & The Cats y ofrecen una selección ecléctica\, con mucho groove\, a base de Stevie Wonder\, Al Green\, UB40\, Sixpence None The Richer\, Boney M…
URL:https://musica.santjosep.org/es/concert/el-duo-acustico-de-rick-y-carly-en-el-escenario-de-mola-la-ola-en-cala-de-bou-2/
LOCATION:Mola La Ola\, Carrer des Caló\, 71. Cala de Bou
CATEGORIES:Pop,Rock,Soul
ATTACH;FMTTYPE=image/jpeg:https://musica.santjosep.org/wp-content/uploads/2024/07/carly-and-rick-rec-1.jpg
GEO:38.9705357081;1.2836602652282
X-APPLE-STRUCTURED-LOCATION;VALUE=URI;X-ADDRESS=Mola La Ola Carrer des Caló 71. Cala de Bou;X-APPLE-RADIUS=500;X-TITLE=Carrer des Caló\, 71. Cala de Bou:geo:1.2836602652282,38.9705357081
END:VEVENT
BEGIN:VEVENT
DTSTART;TZID=Europe/Madrid:20240712T210000
DTEND;TZID=Europe/Madrid:20240712T230000
DTSTAMP:20260425T221805
CREATED:20240710T084407Z
LAST-MODIFIED:20240710T084407Z
UID:10022125-1720818000-1720825200@musica.santjosep.org
SUMMARY:El dúo acústico de Rick y Carly\, en el escenario de Mola La Ola\, en Cala de Bou
DESCRIPTION:El bar restaurante Mola La Ola\, en Cala de Bou\, trae a su escenario a la cantante Carly Marie Sorensen y el guitarrista Rick Rockdríguez\, con un espectáculo de versiones en acústico. Ambos son miembros del grupo Carly & The Cats y ofrecen una selección ecléctica\, con mucho groove\, a base de Stevie Wonder\, Al Green\, UB40\, Sixpence None The Richer\, Boney M…
URL:https://musica.santjosep.org/es/concert/el-duo-acustico-de-rick-y-carly-en-el-escenario-de-mola-la-ola-en-cala-de-bou-3/2024-07-12/
LOCATION:Mola La Ola\, Carrer des Caló\, 71. Cala de Bou
CATEGORIES:Pop,Rock,Soul
ATTACH;FMTTYPE=image/jpeg:https://musica.santjosep.org/wp-content/uploads/2024/07/carly-and-rick-rec-1.jpg
GEO:38.9705357081;1.2836602652282
X-APPLE-STRUCTURED-LOCATION;VALUE=URI;X-ADDRESS=Mola La Ola Carrer des Caló 71. Cala de Bou;X-APPLE-RADIUS=500;X-TITLE=Carrer des Caló\, 71. Cala de Bou:geo:1.2836602652282,38.9705357081
END:VEVENT
BEGIN:VEVENT
DTSTART;TZID=Europe/Madrid:20240704T210000
DTEND;TZID=Europe/Madrid:20240704T230000
DTSTAMP:20260425T221805
CREATED:20240701T205438Z
LAST-MODIFIED:20240701T205535Z
UID:10022054-1720126800-1720134000@musica.santjosep.org
SUMMARY:El dúo acústico de Rick y Carly\, en el escenario de Mola La Ola\, en Cala de Bou
DESCRIPTION:El bar restaurante Mola La Ola\, en Cala de Bou\, trae a su escenario a la cantante Carly Marie Sorensen y el guitarrista Rick Rockdríguez\, con un espectáculo de versiones en acústico. Ambos son miembros del grupo Carly & The Cats y ofrecen una selección ecléctica\, con mucho groove\, a base de Stevie Wonder\, Al Green\, UB40\, Sixpence None The Richer\, Boney M…
URL:https://musica.santjosep.org/es/concert/el-duo-acustico-de-rick-y-carly-en-el-escenario-de-mola-la-ola-en-cala-de-bou/2024-07-04/
LOCATION:Mola La Ola\, Carrer des Caló\, 71. Cala de Bou
CATEGORIES:Funky,Pop,Soul
ATTACH;FMTTYPE=image/jpeg:https://musica.santjosep.org/wp-content/uploads/2024/07/carly-and-rick-rec.jpg
GEO:38.9705357081;1.2836602652282
X-APPLE-STRUCTURED-LOCATION;VALUE=URI;X-ADDRESS=Mola La Ola Carrer des Caló 71. Cala de Bou;X-APPLE-RADIUS=500;X-TITLE=Carrer des Caló\, 71. Cala de Bou:geo:1.2836602652282,38.9705357081
END:VEVENT
BEGIN:VEVENT
DTSTART;TZID=Europe/Madrid:20240627T210000
DTEND;TZID=Europe/Madrid:20240627T230000
DTSTAMP:20260425T221805
CREATED:20240701T205438Z
LAST-MODIFIED:20240701T205535Z
UID:10022053-1719522000-1719529200@musica.santjosep.org
SUMMARY:El dúo acústico de Rick y Carly\, en el escenario de Mola La Ola\, en Cala de Bou
DESCRIPTION:El bar restaurante Mola La Ola\, en Cala de Bou\, trae a su escenario a la cantante Carly Marie Sorensen y el guitarrista Rick Rockdríguez\, con un espectáculo de versiones en acústico. Ambos son miembros del grupo Carly & The Cats y ofrecen una selección ecléctica\, con mucho groove\, a base de Stevie Wonder\, Al Green\, UB40\, Sixpence None The Richer\, Boney M…
URL:https://musica.santjosep.org/es/concert/el-duo-acustico-de-rick-y-carly-en-el-escenario-de-mola-la-ola-en-cala-de-bou/2024-06-27/
LOCATION:Mola La Ola\, Carrer des Caló\, 71. Cala de Bou
CATEGORIES:Funky,Pop,Soul
ATTACH;FMTTYPE=image/jpeg:https://musica.santjosep.org/wp-content/uploads/2024/07/carly-and-rick-rec.jpg
GEO:38.9705357081;1.2836602652282
X-APPLE-STRUCTURED-LOCATION;VALUE=URI;X-ADDRESS=Mola La Ola Carrer des Caló 71. Cala de Bou;X-APPLE-RADIUS=500;X-TITLE=Carrer des Caló\, 71. Cala de Bou:geo:1.2836602652282,38.9705357081
END:VEVENT
END:VCALENDAR