BEGIN:VCALENDAR
VERSION:2.0
PRODID:-//Sant Josep és música - ECPv6.15.13//NONSGML v1.0//EN
CALSCALE:GREGORIAN
METHOD:PUBLISH
X-ORIGINAL-URL:https://musica.santjosep.org/es/
X-WR-CALDESC:Eventos para Sant Josep és música
REFRESH-INTERVAL;VALUE=DURATION:PT1H
X-Robots-Tag:noindex
X-PUBLISHED-TTL:PT1H
BEGIN:VTIMEZONE
TZID:Europe/Madrid
BEGIN:DAYLIGHT
TZOFFSETFROM:+0100
TZOFFSETTO:+0200
TZNAME:CEST
DTSTART:20250330T010000
END:DAYLIGHT
BEGIN:STANDARD
TZOFFSETFROM:+0200
TZOFFSETTO:+0100
TZNAME:CET
DTSTART:20251026T010000
END:STANDARD
BEGIN:DAYLIGHT
TZOFFSETFROM:+0100
TZOFFSETTO:+0200
TZNAME:CEST
DTSTART:20260329T010000
END:DAYLIGHT
BEGIN:STANDARD
TZOFFSETFROM:+0200
TZOFFSETTO:+0100
TZNAME:CET
DTSTART:20261025T010000
END:STANDARD
BEGIN:DAYLIGHT
TZOFFSETFROM:+0100
TZOFFSETTO:+0200
TZNAME:CEST
DTSTART:20270328T010000
END:DAYLIGHT
BEGIN:STANDARD
TZOFFSETFROM:+0200
TZOFFSETTO:+0100
TZNAME:CET
DTSTART:20271031T010000
END:STANDARD
END:VTIMEZONE
BEGIN:VEVENT
DTSTART;TZID=Europe/Madrid:20260425T150000
DTEND;TZID=Europe/Madrid:20260425T170000
DTSTAMP:20260425T220355
CREATED:20260423T150521Z
LAST-MODIFIED:20260423T151816Z
UID:10029623-1777129200-1777136400@musica.santjosep.org
SUMMARY:El bar restaurante Aljovic\, en Cala de Bou\, se suma a la música en vivo con Querencia
DESCRIPTION:El popular bar restaurante Aljovic\, frecuentado por multitud de vecinos de Cala de Bou\, se suma este sábado a la música en vivo\, con un partel protagonizado por el grupo Querencia\, que ofrecerá su magnífico espectáculo de flamenco. Esta formación nació en el año 2007\, impulsada por el percusionista Luis de las Heras. Ofrece un repertorio musical elegante\, manteniendo siempre las raíces flamencas y con algunas pinceladas de fusión latina.
URL:https://musica.santjosep.org/es/concert/el-bar-restaurante-aljovic-en-cala-de-bou-se-suma-a-la-musica-en-vivo-con-querencia/
LOCATION:Aljovic\, Carrer de Lugo\, 28. Cala de Bou
CATEGORIES:Flamenco
ATTACH;FMTTYPE=image/jpeg:https://musica.santjosep.org/wp-content/uploads/2026/04/FLAMENCO-BAND-TRIO-3-rec.jpg
GEO:38.969548773837;1.2839706302653
X-APPLE-STRUCTURED-LOCATION;VALUE=URI;X-ADDRESS=Aljovic Carrer de Lugo 28. Cala de Bou;X-APPLE-RADIUS=500;X-TITLE=Carrer de Lugo\, 28. Cala de Bou:geo:1.2839706302653,38.969548773837
END:VEVENT
END:VCALENDAR